BEGIN:VCALENDAR
VERSION:2.0
PRODID:-//Eventin//Event Calendar//EN
CALSCALE:GREGORIAN
METHOD:PUBLISH
BEGIN:VEVENT
UID:435c5ea458ff24b479662095ba0749dc@karolinaglogowska.pl
SUMMARY:WARSZTAT USTAWIEŃ SYSTEMOWYCH W GORZOWIE WLKP.
DESCRIPTION:
LOCATION:Gorzów Wielkopolski
DTSTAMP:20260421T114910Z
DTSTART:20260815T100000Z
DTEND:20260815T160000Z
END:VEVENT
END:VCALENDAR
